BEGIN:VCALENDAR
VERSION:2.0
PRODID:-//wp-events-plugin.com//7.2.3.1//EN
TZID:Europe/Berlin
X-WR-TIMEZONE:Europe/Berlin
BEGIN:VEVENT
UID:86@imkerverband-rlp.de
DTSTART;TZID=Europe/Berlin:20260423T193000
DTEND;TZID=Europe/Berlin:20260423T193000
DTSTAMP:20260416T094536Z
URL:https://www.imkerverband-rlp.de/veranstaltungen/externe-veranstaltung-
 protein-als-schluessel-zur-vitalitaet-und-leistungsstaerke-der-honigbienen
 -kiv-ludwigshafen/
SUMMARY:EXTERNE VERANSTALTUNG: Protein\, als Schlüssel zur Vitalität und 
 Leistungsstärke der Honigbienen (KIV Ludwigshafen)
DESCRIPTION:Thema: Protein\, als Schlüssel zur Vitalität und Leistungsst
 ärke der Honigbienen\n\nReferent: Michael Simon\n\nVeranstalter: KIV Ludw
 igshafen\n\nOrt: Neustadter Ring 2\, 67067 Ludwigshafen am Rhein\n\nAnmeld
 ung (kostenfrei) bei: KIV-LU@t-online.de\n\n&nbsp\;
LOCATION:Ludwigshafen\, Neustadter Ring 2\, 67067 Ludwigshafen am Rhein\, 6
 7067\, Deutschland
X-APPLE-STRUCTURED-LOCATION;VALUE=URI;X-ADDRESS=Neustadter Ring 2\, 67067 L
 udwigshafen am Rhein\, 67067\, Deutschland;X-APPLE-RADIUS=100;X-TITLE=Ludw
 igshafen:geo:0,0
END:VEVENT
BEGIN:VTIMEZONE
TZID:Europe/Berlin
X-LIC-LOCATION:Europe/Berlin
BEGIN:DAYLIGHT
DTSTART:20260329T030000
TZOFFSETFROM:+0100
TZOFFSETTO:+0200
TZNAME:CEST
END:DAYLIGHT
END:VTIMEZONE
END:VCALENDAR